BEGIN:VCALENDAR
VERSION:2.0
PRODID:-//Adaptive Agriculture: Grain Management Solutions - ECPv6.15.12.1//NONSGML v1.0//EN
CALSCALE:GREGORIAN
METHOD:PUBLISH
X-WR-CALNAME:Adaptive Agriculture: Grain Management Solutions
X-ORIGINAL-URL:https://adaptiveagriculture.us
X-WR-CALDESC:Events for Adaptive Agriculture: Grain Management Solutions
REFRESH-INTERVAL;VALUE=DURATION:PT1H
X-Robots-Tag:noindex
X-PUBLISHED-TTL:PT1H
BEGIN:VTIMEZONE
TZID:America/Regina
BEGIN:STANDARD
TZOFFSETFROM:-0600
TZOFFSETTO:-0600
TZNAME:CST
DTSTART:20250101T000000
END:STANDARD
END:VTIMEZONE
BEGIN:VEVENT
DTSTART;VALUE=DATE:20260113
DTEND;VALUE=DATE:20260116
DTSTAMP:20260424T094441
CREATED:20251120T180956Z
LAST-MODIFIED:20251120T181123Z
UID:3781-1768262400-1768521599@adaptiveagriculture.us
SUMMARY:Western Crop Production Show
DESCRIPTION:The Western Canadian Crop Production Show has been the “must-attend” event for prairie farmers since 1983\, making it a true leader in the field of crop science and technology. \n#LeadersInTheField \nDates and Times:\nJan 13: 9:00 am – 5:00 pm\nJan 14: 9:00 am – 5:00 pm\nJan 15: 9:00 am – 4:00 pm
URL:https://adaptiveagriculture.us/event/western-crop-production-show/
LOCATION:WTC Saskatoon at Prairieland\, 503 Ruth Street West\, Saskatoon\, Saskatchewan\, S7K 4E4\, Canada
ATTACH;FMTTYPE=image/png:https://adaptiveagriculture.us/wp-content/uploads/2025/11/Western-Crop-Production-Show.png
END:VEVENT
END:VCALENDAR