BEGIN:VCALENDAR
VERSION:2.0
PRODID:-//Adaptive Agriculture: Grain Management Solutions - ECPv6.15.12.1//NONSGML v1.0//EN
CALSCALE:GREGORIAN
METHOD:PUBLISH
X-WR-CALNAME:Adaptive Agriculture: Grain Management Solutions
X-ORIGINAL-URL:https://adaptiveagriculture.us
X-WR-CALDESC:Events for Adaptive Agriculture: Grain Management Solutions
REFRESH-INTERVAL;VALUE=DURATION:PT1H
X-Robots-Tag:noindex
X-PUBLISHED-TTL:PT1H
BEGIN:VTIMEZONE
TZID:America/Regina
BEGIN:STANDARD
TZOFFSETFROM:-0600
TZOFFSETTO:-0600
TZNAME:CST
DTSTART:20250101T000000
END:STANDARD
END:VTIMEZONE
BEGIN:VEVENT
DTSTART;VALUE=DATE:20260120
DTEND;VALUE=DATE:20260123
DTSTAMP:20260424T094355
CREATED:20251120T181812Z
LAST-MODIFIED:20251120T182134Z
UID:3785-1768867200-1769126399@adaptiveagriculture.us
SUMMARY:Manitoba Ag Days
DESCRIPTION:The Manitoba Ag Days show is an exposition of agricultural production expertise\, technology\, and equipment that attracts exhibitors and visitors from across Canada and the United States of America. \nLand Acknowledgement: We respect and acknowledge that our event takes place on Treaty 2 Territory\, the traditional shared land of the Dakota\, Anishinabek\, Oji-Cree\, Cree\, and Dene Peoples and the homeland of the Métis nation. We at Manitoba Ag Days respect and acknowledge the history\, land and the people of this area. \nDate and Times:\nJanuary 20th: 9:00am – 5:00pm\nJanuary 21th: 9:00am – 5:00pm\nJanuary 22th: 9:00am – 5:00pm
URL:https://adaptiveagriculture.us/event/manitoba-ag-days/
LOCATION:The Keystone Centre\, 1175 18th St Unit 1\, Brandon\, Manitoba\, R7A 7E3\, Canada
ATTACH;FMTTYPE=image/png:https://adaptiveagriculture.us/wp-content/uploads/2025/11/Ag-Days-Original-Logo-color-200x113-1.png
END:VEVENT
END:VCALENDAR