BEGIN:VCALENDAR
VERSION:2.0
PRODID:-//Adaptive Agriculture: Grain Management Solutions - ECPv6.15.12.1//NONSGML v1.0//EN
CALSCALE:GREGORIAN
METHOD:PUBLISH
X-ORIGINAL-URL:https://adaptiveagriculture.us
X-WR-CALDESC:Events for Adaptive Agriculture: Grain Management Solutions
REFRESH-INTERVAL;VALUE=DURATION:PT1H
X-Robots-Tag:noindex
X-PUBLISHED-TTL:PT1H
BEGIN:VTIMEZONE
TZID:America/Regina
BEGIN:STANDARD
TZOFFSETFROM:-0600
TZOFFSETTO:-0600
TZNAME:CST
DTSTART:20250101T000000
END:STANDARD
END:VTIMEZONE
BEGIN:VEVENT
DTSTART;VALUE=DATE:20260121
DTEND;VALUE=DATE:20260124
DTSTAMP:20260424T094808
CREATED:20251120T183115Z
LAST-MODIFIED:20251120T183115Z
UID:3789-1768953600-1769212799@adaptiveagriculture.us
SUMMARY:Magie Show
DESCRIPTION:Welcome to the Montana Agricultural and Industrial Exhibit. We fondly refer to Montana’s Largest Ag show as the MAGIE. MAGIE 2025 will be held at the Pacific Steel & Recycling Arena & Exhibition Hall at Montana ExpoPark on January 21\, 22\, 23\, 2026. \nWe invite you to come see us at the MAGIE this year to see everything happening in the Farm\, Ranch\, and Industrial space. The Montana Agricultural and Industrial Exhibit has been in existence for more than 5 decades representing all facets of agriculture\, equipment\, and technology. This is a show you don’t want to miss. \nJanuary 21st: 9AM – 5PM\nJanuary 22st: 9AM – 5PM\nJanuary 23st: 9AM – 4PM
URL:https://adaptiveagriculture.us/event/magie-show/
LOCATION:Montana ExpoPark\, 400 3rd St NW\, Great Falls\, MT\, 59404\, United States
ATTACH;FMTTYPE=image/png:https://adaptiveagriculture.us/wp-content/uploads/2025/11/Magie-Show.png
END:VEVENT
END:VCALENDAR