BEGIN:VCALENDAR
VERSION:2.0
PRODID:-//Adaptive Agriculture: Grain Management Solutions - ECPv6.15.12.1//NONSGML v1.0//EN
CALSCALE:GREGORIAN
METHOD:PUBLISH
X-ORIGINAL-URL:https://adaptiveagriculture.us
X-WR-CALDESC:Events for Adaptive Agriculture: Grain Management Solutions
REFRESH-INTERVAL;VALUE=DURATION:PT1H
X-Robots-Tag:noindex
X-PUBLISHED-TTL:PT1H
BEGIN:VTIMEZONE
TZID:America/Regina
BEGIN:STANDARD
TZOFFSETFROM:-0600
TZOFFSETTO:-0600
TZNAME:CST
DTSTART:20250101T000000
END:STANDARD
END:VTIMEZONE
BEGIN:VEVENT
DTSTART;VALUE=DATE:20260128
DTEND;VALUE=DATE:20260131
DTSTAMP:20260424T094748
CREATED:20251120T191731Z
LAST-MODIFIED:20251120T191731Z
UID:3793-1769558400-1769817599@adaptiveagriculture.us
SUMMARY:Sioux Falls Farm Show (29th Annual)
DESCRIPTION:For the past 28 years\, the Sioux Falls Farm Show has showcased the latest agricultural technology and services with more than 330 exhibitors.  Join over 18\,000 agricultural producers from South Dakota\, Nebraska\, Iowa\, and Minnesota to review the latest farm technology focused on improving yields\, reducing costs\, and managing risk. \nThe Denny Sanford Premier Center\, Convention Center & Arena provide over 85\,000 square feet of exhibits\, as well as educational seminars. \nDates and Times: \nJanuary 28th\, 2026: 9:00am – 5:00pm\nJanuary 29th\, 2026: 9:00am – 5:00pm\nJanuary 30th\, 2026: 9:00am – 4:00pm
URL:https://adaptiveagriculture.us/event/sioux-falls-farm-show-29th-annual/
LOCATION:Sioux Falls Convention Center\, 1201 N W Ave\, Sioux Falls\, SD\, 57104\, United States
ATTACH;FMTTYPE=image/png:https://adaptiveagriculture.us/wp-content/uploads/2025/11/SouixFalls-logo-vert.png
END:VEVENT
BEGIN:VEVENT
DTSTART;TZID=America/Regina:20260128T090000
DTEND;TZID=America/Regina:20260130T170000
DTSTAMP:20260424T094748
CREATED:20260116T232701Z
LAST-MODIFIED:20260116T232701Z
UID:4506-1769590800-1769792400@adaptiveagriculture.us
SUMMARY:KMOT Ag Expo
DESCRIPTION:Since its inception more than 50 years ago\, the KMOT Ag Expo has grown to become the Midwest’s largest indoor farm show\, featuring more than 350 exhibitors covering more than 1\,000 booths. Each year\, the event draws approximately 30\,000 to 40\,000 people. \nYou can expect to see the latest in agricultural technology and equipment\, along with several other exhibits that cover all areas of agriculture in Western North Dakota. The show is guaranteed to have something for everyone\, including informative seminars. For more information call 701-852-5254 or email agexpo@kmot.com. \n \nJanuary 28-30\, 2026\nWednesday & Thursday:\n9 a.m. – 5 p.m. \nFriday:\n9 a.m. – 4 p.m.
URL:https://adaptiveagriculture.us/event/kmot-ag-expo/
LOCATION:North Dakota State Fair Center\, 2005 E Burdick Expy\, Minot\, ND\, 58701\, United States
ATTACH;FMTTYPE=image/png:https://adaptiveagriculture.us/wp-content/uploads/2026/01/Kmot-Logo.png
END:VEVENT
END:VCALENDAR