BEGIN:VCALENDAR
VERSION:2.0
PRODID:-//Adaptive Agriculture: Grain Management Solutions - ECPv6.15.12.1//NONSGML v1.0//EN
CALSCALE:GREGORIAN
METHOD:PUBLISH
X-WR-CALNAME:Adaptive Agriculture: Grain Management Solutions
X-ORIGINAL-URL:https://adaptiveagriculture.us
X-WR-CALDESC:Events for Adaptive Agriculture: Grain Management Solutions
REFRESH-INTERVAL;VALUE=DURATION:PT1H
X-Robots-Tag:noindex
X-PUBLISHED-TTL:PT1H
BEGIN:VTIMEZONE
TZID:America/Regina
BEGIN:STANDARD
TZOFFSETFROM:-0600
TZOFFSETTO:-0600
TZNAME:CST
DTSTART:20250101T000000
END:STANDARD
END:VTIMEZONE
BEGIN:VEVENT
DTSTART;VALUE=DATE:20260203
DTEND;VALUE=DATE:20260206
DTSTAMP:20260424T074506
CREATED:20251120T192716Z
LAST-MODIFIED:20251120T192716Z
UID:3797-1770076800-1770335999@adaptiveagriculture.us
SUMMARY:Iowa Ag Expo
DESCRIPTION:The Iowa Ag Expo will inspire you with the biggest names and newest innovations in agriculture. With more than 700 exhibitors spanning 7.25 acres\, the Iowa Ag Expo is the third largest indoor ag show in the country—and it’s right in your backyard! \nWhile you’re here\, check out the series of education presentations called AgTalks in the Convention Center Rooms 301 and 311 for a deep dive into specific ag topics. \nDates and Times: \nFebruary 3rd: 9:00am – 5:00pm\nFebruary 4th: 9:00am – 5:00pm\nFebruary 5th: 9:00am – 4:00pm
URL:https://adaptiveagriculture.us/event/iowa-ag-expo/
LOCATION:Iowa Events Center\, 730 3rd St.\, Des Moines\, IA\, 50309\, United States
ATTACH;FMTTYPE=image/png:https://adaptiveagriculture.us/wp-content/uploads/2025/11/Iowa-Ag-Expo-01-254p.png
END:VEVENT
END:VCALENDAR