BEGIN:VCALENDAR
VERSION:2.0
PRODID:-//Adaptive Agriculture: Grain Management Solutions - ECPv6.15.12.1//NONSGML v1.0//EN
CALSCALE:GREGORIAN
METHOD:PUBLISH
X-ORIGINAL-URL:https://adaptiveagriculture.us
X-WR-CALDESC:Events for Adaptive Agriculture: Grain Management Solutions
REFRESH-INTERVAL;VALUE=DURATION:PT1H
X-Robots-Tag:noindex
X-PUBLISHED-TTL:PT1H
BEGIN:VTIMEZONE
TZID:America/Regina
BEGIN:STANDARD
TZOFFSETFROM:-0600
TZOFFSETTO:-0600
TZNAME:CST
DTSTART:20250101T000000
END:STANDARD
END:VTIMEZONE
BEGIN:VEVENT
DTSTART;TZID=America/Regina:20260212T100000
DTEND;TZID=America/Regina:20260214T180000
DTSTAMP:20260424T074904
CREATED:20260129T172736Z
LAST-MODIFIED:20260129T172736Z
UID:5513-1770890400-1771092000@adaptiveagriculture.us
SUMMARY:MATE (Montana Agri-Trade Exposition)
DESCRIPTION:About \n\n\n\n\nTheNorthern International Livestock Exposition (NILE) is the owner and host of the Montana Agri-Trade Exposition\, also known as the MATE Show and Home & Health Expo. This 49-year-long tradition in Billings\, MT features more than 500 booths and appeals to a regional population. \nThe MATE features leading companies in today’s agriculture industry where the newest and greatest technology in the industry can be found. Whether you’re looking for a new tractor or a new cattle chute\, or you have a kiddo who loves all things farm equipment\, there’s something for everyone. \nThe Home & Health Expo showcases everything needed for your home and your health. Local health clinics\, dentists\, skincare specialists\, home goods providers\, artists\, cookware experts and more can be found in the Montana Pavilion as part of the Home & Health Expo. \n\nDates and Time:\nThursday February 12th : 10:00am-6:00pm \nFriday February 13th : 10:00am-6:00pm \nSaturday February 14th : 10:00am-5:00pm
URL:https://adaptiveagriculture.us/event/mate-montana-agri-trade-exposition/
LOCATION:MetraPark\, 308 6th Ave N\, Billings\, MT\, 59101\, United States
ATTACH;FMTTYPE=image/png:https://adaptiveagriculture.us/wp-content/uploads/2026/01/MATE-Logo.png
END:VEVENT
END:VCALENDAR