BEGIN:VCALENDAR
VERSION:2.0
PRODID:-//Adaptive Agriculture: Grain Management Solutions - ECPv6.15.12.1//NONSGML v1.0//EN
CALSCALE:GREGORIAN
METHOD:PUBLISH
X-ORIGINAL-URL:https://adaptiveagriculture.us
X-WR-CALDESC:Events for Adaptive Agriculture: Grain Management Solutions
REFRESH-INTERVAL;VALUE=DURATION:PT1H
X-Robots-Tag:noindex
X-PUBLISHED-TTL:PT1H
BEGIN:VTIMEZONE
TZID:America/Regina
BEGIN:STANDARD
TZOFFSETFROM:-0600
TZOFFSETTO:-0600
TZNAME:CST
DTSTART:20250101T000000
END:STANDARD
END:VTIMEZONE
BEGIN:VEVENT
DTSTART;VALUE=DATE:20260317
DTEND;VALUE=DATE:20260320
DTSTAMP:20260424T060658
CREATED:20251120T221333Z
LAST-MODIFIED:20251120T221603Z
UID:3820-1773705600-1773964799@adaptiveagriculture.us
SUMMARY:Canada's Farm Show
DESCRIPTION:This March\, Canada’s Farm Show brings together the very best in agriculture — from cutting-edge equipment and innovative technology to expert insights and industry leaders — all in one place\, just ahead of seeding season. \nIt’s your chance to explore the latest products\, connect with other farmers\, suppliers and industry professionals from across the country and the globe\, and get inspired for the season ahead. \nWhether you’re looking for fresh ideas\, business opportunities\, or the newest innovations in ag\, you’ll find it here at one of North America’s most influential agricultural events.
URL:https://adaptiveagriculture.us/event/canadas-farm-show/
LOCATION:Bunge International Trade Centre\, 1700 Elphinstone St\, Regina\, Saskatchewan\, S4P 2Z6\, Canada
ATTACH;FMTTYPE=image/png:https://adaptiveagriculture.us/wp-content/uploads/2025/11/canada-farm-show.png
END:VEVENT
END:VCALENDAR