BEGIN:VCALENDAR
VERSION:2.0
PRODID:-//Adaptive Agriculture: Grain Management Solutions - ECPv6.15.12.1//NONSGML v1.0//EN
CALSCALE:GREGORIAN
METHOD:PUBLISH
X-WR-CALNAME:Adaptive Agriculture: Grain Management Solutions
X-ORIGINAL-URL:https://adaptiveagriculture.us
X-WR-CALDESC:Events for Adaptive Agriculture: Grain Management Solutions
REFRESH-INTERVAL;VALUE=DURATION:PT1H
X-Robots-Tag:noindex
X-PUBLISHED-TTL:PT1H
BEGIN:VTIMEZONE
TZID:America/Regina
BEGIN:STANDARD
TZOFFSETFROM:-0600
TZOFFSETTO:-0600
TZNAME:CST
DTSTART:20250101T000000
END:STANDARD
END:VTIMEZONE
BEGIN:VEVENT
DTSTART;VALUE=DATE:20260320
DTEND;VALUE=DATE:20260323
DTSTAMP:20260424T060520
CREATED:20251120T224026Z
LAST-MODIFIED:20251120T224026Z
UID:3829-1773964800-1774223999@adaptiveagriculture.us
SUMMARY:Oklahoma City Farm Show (22nd Annual)
DESCRIPTION:The Oklahoma City Farm Show is the premier spring agricultural and ranching event for the southern plains area\, with hundreds of exhibitors featuring over one thousand product lines for three big days. \nExhibits include all of the latest in agriculture with a full line of displays\, including tractor\, sprayer\, tillage\, harvest equipment\, cattle management products\, and more. In addition to indoor and outdoor exhibits\, free coffee and rolls\, OSU Extension seminars and prize drawings make the Oklahoma City Farm Show a don’t-miss event.
URL:https://adaptiveagriculture.us/event/oklahoma-city-farm-show-22nd-annual/
LOCATION:OKC Fair Park\, 3001 General Pershing Blvd\, Oklahoma City\, OK\, 73107\, United States
ATTACH;FMTTYPE=image/png:https://adaptiveagriculture.us/wp-content/uploads/2025/11/Oklahoma-City-Farm-Show.png
END:VEVENT
END:VCALENDAR