BEGIN:VCALENDAR
VERSION:2.0
PRODID:-//Adaptive Agriculture: Grain Management Solutions - ECPv6.15.12.1//NONSGML v1.0//EN
CALSCALE:GREGORIAN
METHOD:PUBLISH
X-WR-CALNAME:Adaptive Agriculture: Grain Management Solutions
X-ORIGINAL-URL:https://adaptiveagriculture.us
X-WR-CALDESC:Events for Adaptive Agriculture: Grain Management Solutions
REFRESH-INTERVAL;VALUE=DURATION:PT1H
X-Robots-Tag:noindex
X-PUBLISHED-TTL:PT1H
BEGIN:VTIMEZONE
TZID:America/Regina
BEGIN:STANDARD
TZOFFSETFROM:-0600
TZOFFSETTO:-0600
TZNAME:CST
DTSTART:20240101T000000
END:STANDARD
END:VTIMEZONE
BEGIN:VEVENT
DTSTART;VALUE=DATE:20260121
DTEND;VALUE=DATE:20260124
DTSTAMP:20260424T093143
CREATED:20251120T183115Z
LAST-MODIFIED:20251120T183115Z
UID:3789-1768953600-1769212799@adaptiveagriculture.us
SUMMARY:Magie Show
DESCRIPTION:Welcome to the Montana Agricultural and Industrial Exhibit. We fondly refer to Montana’s Largest Ag show as the MAGIE. MAGIE 2025 will be held at the Pacific Steel & Recycling Arena & Exhibition Hall at Montana ExpoPark on January 21\, 22\, 23\, 2026. \nWe invite you to come see us at the MAGIE this year to see everything happening in the Farm\, Ranch\, and Industrial space. The Montana Agricultural and Industrial Exhibit has been in existence for more than 5 decades representing all facets of agriculture\, equipment\, and technology. This is a show you don’t want to miss. \nJanuary 21st: 9AM – 5PM\nJanuary 22st: 9AM – 5PM\nJanuary 23st: 9AM – 4PM
URL:https://adaptiveagriculture.us/event/magie-show/
LOCATION:Montana ExpoPark\, 400 3rd St NW\, Great Falls\, MT\, 59404\, United States
ATTACH;FMTTYPE=image/png:https://adaptiveagriculture.us/wp-content/uploads/2025/11/Magie-Show.png
END:VEVENT
BEGIN:VEVENT
DTSTART;VALUE=DATE:20260120
DTEND;VALUE=DATE:20260123
DTSTAMP:20260424T093143
CREATED:20251120T181812Z
LAST-MODIFIED:20251120T182134Z
UID:3785-1768867200-1769126399@adaptiveagriculture.us
SUMMARY:Manitoba Ag Days
DESCRIPTION:The Manitoba Ag Days show is an exposition of agricultural production expertise\, technology\, and equipment that attracts exhibitors and visitors from across Canada and the United States of America. \nLand Acknowledgement: We respect and acknowledge that our event takes place on Treaty 2 Territory\, the traditional shared land of the Dakota\, Anishinabek\, Oji-Cree\, Cree\, and Dene Peoples and the homeland of the Métis nation. We at Manitoba Ag Days respect and acknowledge the history\, land and the people of this area. \nDate and Times:\nJanuary 20th: 9:00am – 5:00pm\nJanuary 21th: 9:00am – 5:00pm\nJanuary 22th: 9:00am – 5:00pm
URL:https://adaptiveagriculture.us/event/manitoba-ag-days/
LOCATION:The Keystone Centre\, 1175 18th St Unit 1\, Brandon\, Manitoba\, R7A 7E3\, Canada
ATTACH;FMTTYPE=image/png:https://adaptiveagriculture.us/wp-content/uploads/2025/11/Ag-Days-Original-Logo-color-200x113-1.png
END:VEVENT
BEGIN:VEVENT
DTSTART;VALUE=DATE:20260113
DTEND;VALUE=DATE:20260116
DTSTAMP:20260424T093143
CREATED:20251120T180956Z
LAST-MODIFIED:20251120T181123Z
UID:3781-1768262400-1768521599@adaptiveagriculture.us
SUMMARY:Western Crop Production Show
DESCRIPTION:The Western Canadian Crop Production Show has been the “must-attend” event for prairie farmers since 1983\, making it a true leader in the field of crop science and technology. \n#LeadersInTheField \nDates and Times:\nJan 13: 9:00 am – 5:00 pm\nJan 14: 9:00 am – 5:00 pm\nJan 15: 9:00 am – 4:00 pm
URL:https://adaptiveagriculture.us/event/western-crop-production-show/
LOCATION:WTC Saskatoon at Prairieland\, 503 Ruth Street West\, Saskatoon\, Saskatchewan\, S7K 4E4\, Canada
ATTACH;FMTTYPE=image/png:https://adaptiveagriculture.us/wp-content/uploads/2025/11/Western-Crop-Production-Show.png
END:VEVENT
BEGIN:VEVENT
DTSTART;VALUE=DATE:20260106
DTEND;VALUE=DATE:20260109
DTSTAMP:20260424T093143
CREATED:20251120T180022Z
LAST-MODIFIED:20251120T180256Z
UID:3775-1767657600-1767916799@adaptiveagriculture.us
SUMMARY:Dakota Farm Show (42nd Annual)
DESCRIPTION:The Dakota Farm Show will once again kick of the new year showcasing hundreds of exhibitors representing over 1\,000 agricultural products and services\, all inside the temperature-controlled USD DakotaDome.  Join thousands of agricultural producers from South Dakota\, Nebraska\, Iowa\, and Minnesota to review the latest farm technology focused on improving yields\, reducing costs\, and managing risk. \nOnce again this year\,  Northland Ford dealers & WNAX radio will be giving away a Ford Truck on the last day of the show! \nDate and Times:\nJan 6th\, 2026: 9:00am – 5:00pm\nJan 7th\, 2026: 9:00am – 5:00pm\nJan 8th\, 2026: 9:00am – 3:00pm
URL:https://adaptiveagriculture.us/event/dakota-farm-show-42nd-annual/
LOCATION:USD DakotaDome\, 1101 N Dakota St\, Vermillion\, SD\, 57069\, United States
ATTACH;FMTTYPE=image/png:https://adaptiveagriculture.us/wp-content/uploads/2025/11/Dakota-Farm-Show-2.png
END:VEVENT
BEGIN:VEVENT
DTSTART;VALUE=DATE:20251209
DTEND;VALUE=DATE:20251212
DTSTAMP:20260424T093143
CREATED:20251120T175336Z
LAST-MODIFIED:20251120T175336Z
UID:3771-1765238400-1765497599@adaptiveagriculture.us
SUMMARY:Nebraska Ag Expo
DESCRIPTION:The Nebraska Ag Expo will inspire you with the biggest names and newest innovations in agriculture. Nebraska Ag Expo is the leader in showcasing ag innovation and empowering ag producers through technology and best-in-class solutions. \nWhile you’re here\, check out the brand new Innovation Hub in Livestock Market Pavilion\, where you’ll find the most cutting-edge technology that exists in agriculture today. \nDates and Times:\nDecember 9th: 9:00am – 5:00pm\nDecember 10th: 9:00am – 5:00pm\nDecember 11th: 9:00am – 3:00pm
URL:https://adaptiveagriculture.us/event/nebraska-ag-expo/
LOCATION:Sandhills Global Event Center\, 4100 North 84th Street\, Lincoln\, NE\, 68507\, United States
ATTACH;FMTTYPE=image/png:https://adaptiveagriculture.us/wp-content/uploads/2025/11/Nebraska-AG-Expo-01-254p.png
END:VEVENT
BEGIN:VEVENT
DTSTART;VALUE=DATE:20251202
DTEND;VALUE=DATE:20251205
DTSTAMP:20260424T093143
CREATED:20251120T172457Z
LAST-MODIFIED:20251120T174749Z
UID:3753-1764633600-1764892799@adaptiveagriculture.us
SUMMARY:Amarillo Farm & Ranch Show
DESCRIPTION:The IDEAg Amarillo Farm & Ranch show provides farmers and ranchers a place to network\, learn and grow. We strive to bring together the best in agribusiness from across the Texas panhandle\, New Mexico\, Oklahoma and Kansas. \nWe carefully plan and organize an event with close to 500 exhibitors showcasing agricultural products\, services and technologies. The IDEAg Amarillo Farm & Ranch show is a place to see the products up close and personal\, attend classes and education sessions for CEU credits and to network with friends and neighbors to share ideas and help grow your family farm or ranch. \nDate and Times:\nDecember 2\, 2025: 9:00 a.m. – 5:00 p.m.\nDecember 3\, 2025: 9:00 a.m. – 5:00 p.m.\nDecember 4\, 2025: 9:00 a.m. – 3:00 p.m.
URL:https://adaptiveagriculture.us/event/amarillo-farm-ranch-show/
LOCATION:Amarillo Civic Center\, 3rd and Buchanan\, Amarillo\, TX\, 79101\, United States
ATTACH;FMTTYPE=image/png:https://adaptiveagriculture.us/wp-content/uploads/2025/11/Amarillo-Farm-Show.png
END:VEVENT
BEGIN:VEVENT
DTSTART;VALUE=DATE:20251119
DTEND;VALUE=DATE:20251121
DTSTAMP:20260424T093143
CREATED:20251120T212246Z
LAST-MODIFIED:20251120T212246Z
UID:3805-1763510400-1763683199@adaptiveagriculture.us
SUMMARY:Gateway Farm Expo
DESCRIPTION:Gateway Farm Expo is the longest running farm show in Nebraska and draws thousands of visitors each year. \nThe expo is scheduled in late November\, after harvest\, allowing farmers and ranchers time to have a good handle on their production and operation goals for the next year. The expo is strategically positioned to maximize opportunities to make sales and promote agricultural technology\, equipment and operation inputs.These opportunities create sales at the Gateway Farm Expo! \nKearney Farm Expo\, Inc.\, a nonprofit organization\, volunteers from local businesses keep the show running successfully. Show proceeds are used to promote Gateway Farm Expo and its exhibitors. Regional newspapers and radio stations advertise the show during a 60-day time frame. \nGateway Farm Expo prides itself on promoting agricultural education in communities across Nebraska. Students involved in 4-H\, Agribusiness clubs\, FFA and collegiate education in agriculture benefit from Gateway scholarships and donations. \nDates and Times:\nNovember 19th: 9:00am – 5:00pm\nNovember 20th: 9:00am – 5:00pm
URL:https://adaptiveagriculture.us/event/gateway-farm-expo/
LOCATION:Buffalo County Fairgrounds\, 3807 Avenue N\, Kearney\, NE\, 68847\, United States
ATTACH;FMTTYPE=image/png:https://adaptiveagriculture.us/wp-content/uploads/2025/11/gateway-farm-expo.png
END:VEVENT
BEGIN:VEVENT
DTSTART;VALUE=DATE:20251109
DTEND;VALUE=DATE:20251116
DTSTAMP:20260424T093143
CREATED:20251120T213004Z
LAST-MODIFIED:20251120T213004Z
UID:3809-1762646400-1763251199@adaptiveagriculture.us
SUMMARY:AgriTechnica
DESCRIPTION:AGRITECHNICA is the meeting place for decision-makers and the leading business marketplace for the international agricultural sector. It is a showcase for the global agricultural machinery industry and a forum for the future of crop production. All the leading companies in the sector present their new products and innovations at the world’s leading trade fair for agricultural machinery. \nSYSTEMS & COMPONENTS – the B2B marketplace for the international agricultural machinery supply industry and the off-highway sector – takes place at the same time as AGRITECHNICA.
URL:https://adaptiveagriculture.us/event/agritechnica/
LOCATION:NE
ATTACH;FMTTYPE=image/png:https://adaptiveagriculture.us/wp-content/uploads/2025/11/Agritechnica-Logo.png
END:VEVENT
END:VCALENDAR