BEGIN:VCALENDAR
VERSION:2.0
PRODID:-//Adaptive Agriculture: Grain Management Solutions - ECPv6.15.12.1//NONSGML v1.0//EN
CALSCALE:GREGORIAN
METHOD:PUBLISH
X-WR-CALNAME:Adaptive Agriculture: Grain Management Solutions
X-ORIGINAL-URL:https://adaptiveagriculture.us
X-WR-CALDESC:Events for Adaptive Agriculture: Grain Management Solutions
REFRESH-INTERVAL;VALUE=DURATION:PT1H
X-Robots-Tag:noindex
X-PUBLISHED-TTL:PT1H
BEGIN:VTIMEZONE
TZID:America/Regina
BEGIN:STANDARD
TZOFFSETFROM:-0600
TZOFFSETTO:-0600
TZNAME:CST
DTSTART:20250101T000000
END:STANDARD
END:VTIMEZONE
BEGIN:VEVENT
DTSTART;VALUE=DATE:20260203
DTEND;VALUE=DATE:20260206
DTSTAMP:20260424T060524
CREATED:20251120T192716Z
LAST-MODIFIED:20251120T192716Z
UID:3797-1770076800-1770335999@adaptiveagriculture.us
SUMMARY:Iowa Ag Expo
DESCRIPTION:The Iowa Ag Expo will inspire you with the biggest names and newest innovations in agriculture. With more than 700 exhibitors spanning 7.25 acres\, the Iowa Ag Expo is the third largest indoor ag show in the country—and it’s right in your backyard! \nWhile you’re here\, check out the series of education presentations called AgTalks in the Convention Center Rooms 301 and 311 for a deep dive into specific ag topics. \nDates and Times: \nFebruary 3rd: 9:00am – 5:00pm\nFebruary 4th: 9:00am – 5:00pm\nFebruary 5th: 9:00am – 4:00pm
URL:https://adaptiveagriculture.us/event/iowa-ag-expo/
LOCATION:Iowa Events Center\, 730 3rd St.\, Des Moines\, IA\, 50309\, United States
ATTACH;FMTTYPE=image/png:https://adaptiveagriculture.us/wp-content/uploads/2025/11/Iowa-Ag-Expo-01-254p.png
END:VEVENT
BEGIN:VEVENT
DTSTART;TZID=America/Regina:20260212T100000
DTEND;TZID=America/Regina:20260214T180000
DTSTAMP:20260424T060524
CREATED:20260129T172736Z
LAST-MODIFIED:20260129T172736Z
UID:5513-1770890400-1771092000@adaptiveagriculture.us
SUMMARY:MATE (Montana Agri-Trade Exposition)
DESCRIPTION:About \n\n\n\n\nTheNorthern International Livestock Exposition (NILE) is the owner and host of the Montana Agri-Trade Exposition\, also known as the MATE Show and Home & Health Expo. This 49-year-long tradition in Billings\, MT features more than 500 booths and appeals to a regional population. \nThe MATE features leading companies in today’s agriculture industry where the newest and greatest technology in the industry can be found. Whether you’re looking for a new tractor or a new cattle chute\, or you have a kiddo who loves all things farm equipment\, there’s something for everyone. \nThe Home & Health Expo showcases everything needed for your home and your health. Local health clinics\, dentists\, skincare specialists\, home goods providers\, artists\, cookware experts and more can be found in the Montana Pavilion as part of the Home & Health Expo. \n\nDates and Time:\nThursday February 12th : 10:00am-6:00pm \nFriday February 13th : 10:00am-6:00pm \nSaturday February 14th : 10:00am-5:00pm
URL:https://adaptiveagriculture.us/event/mate-montana-agri-trade-exposition/
LOCATION:MetraPark\, 308 6th Ave N\, Billings\, MT\, 59101\, United States
ATTACH;FMTTYPE=image/png:https://adaptiveagriculture.us/wp-content/uploads/2026/01/MATE-Logo.png
END:VEVENT
BEGIN:VEVENT
DTSTART;VALUE=DATE:20260219
DTEND;VALUE=DATE:20260222
DTSTAMP:20260424T060524
CREATED:20251120T222738Z
LAST-MODIFIED:20251120T222851Z
UID:3824-1771459200-1771718399@adaptiveagriculture.us
SUMMARY:Western Farm Show
DESCRIPTION:The Western farm Show is\nThe Midwest’s Best Indoor Farm Show!\n\n\n\n\nHundreds of Exhibitors  \nThe Latest in Farm & Ranch Technology  \nAcres of Things to Do & See!
URL:https://adaptiveagriculture.us/event/western-farm-show/
LOCATION:American Royal Complex\, 1701 American Royal Ct\, Kansas City\, MO\, 64102\, United States
ATTACH;FMTTYPE=image/png:https://adaptiveagriculture.us/wp-content/uploads/2025/11/Western-Farm-Show-Kansas.png
END:VEVENT
BEGIN:VEVENT
DTSTART;VALUE=DATE:20260225
DTEND;VALUE=DATE:20260228
DTSTAMP:20260424T060524
CREATED:20251120T214359Z
LAST-MODIFIED:20251120T214359Z
UID:3812-1771977600-1772236799@adaptiveagriculture.us
SUMMARY:Commodity Classic
DESCRIPTION:Commodity Classic is where farmers cut through the noise and get straight to what works. \nDiscover the tech and strategies that successful farmers are using right now. Network with people solving the same challenges you face. Learn from operators who’ve been there\, done that\, and are willing to share what actually works. \nTake control of your farm’s future. \nCommodity Classic offers 30+ sessions of industry-leading education designed to help you make smarter decisions for your operation. Here’s what awaits you in San Antonio: \n400+ exhibitors showcasing breakthrough ag technology and solutions that boost profitability \n30+ educational sessions covering precision agriculture\, market trends\, policy updates\, and proven strategies from successful farmers \nUnmatched networking with thousands of forward-thinking farmers and industry experts who understand your challenges \nReal solutions you can implement on your farm immediately
URL:https://adaptiveagriculture.us/event/commodity-classic/
LOCATION:Henry B. Gonzalez Convention Center\, 900 E Market St\, San Antonio\, TX\, 78205\, United States
ATTACH;FMTTYPE=image/jpeg:https://adaptiveagriculture.us/wp-content/uploads/2025/11/commodity-classic.jpg
END:VEVENT
BEGIN:VEVENT
DTSTART;TZID=America/Regina:20260225T090000
DTEND;TZID=America/Regina:20260227T170000
DTSTAMP:20260424T060524
CREATED:20260205T231148Z
LAST-MODIFIED:20260205T231148Z
UID:5829-1772010000-1772211600@adaptiveagriculture.us
SUMMARY:Lethbridge Ag Expo
DESCRIPTION:Ag Expo returns Wednesday\, Feb. 25 – Friday\, Feb. 27\, 2026 at the Lethbridge Trade & Convention Centre! \nIn the heart of Canada’s Premier Food Corridor – Ag Expo is proud to host the agriculture industry. Seamlessly merging state-of-the-art technology and equipment with the enduring spirit of hardworking farm culture\, Ag Expo provides visitors with a captivating glimpse into the industry that beats at the heart of southern Alberta. \n​Ag Expo brings together the world’s most innovative agricultural solutions and invites those working in the industry to learn about all the options for their operations. Discover the latest farming equipment and connect with other exhibitors who are launching innovative new industry technology from irrigation systems and farm equipment to livestock supplies\, chemicals\, seeds and more.  Connect directly with major producers and marketers of crops and livestock while finding the tools and resources you need–all in one place.​
URL:https://adaptiveagriculture.us/event/lethbridge-ag-expo/
LOCATION:The Lethbridge & District Exhibition\, 101 Exhibition Wy S\, Lethbridge\, Alberta\, T1J 4R3\, Canada
ATTACH;FMTTYPE=image/png:https://adaptiveagriculture.us/wp-content/uploads/2026/02/agexpo2026-Logo-scaled.png
END:VEVENT
END:VCALENDAR